BEGIN:VCALENDAR
VERSION:2.0
PRODID:-//Jennifer Sands - ECPv6.15.17.1//NONSGML v1.0//EN
CALSCALE:GREGORIAN
METHOD:PUBLISH
X-WR-CALNAME:Jennifer Sands
X-ORIGINAL-URL:https://jennifersands.com
X-WR-CALDESC:Events for Jennifer Sands
REFRESH-INTERVAL;VALUE=DURATION:PT1H
X-Robots-Tag:noindex
X-PUBLISHED-TTL:PT1H
BEGIN:VTIMEZONE
TZID:America/New_York
BEGIN:DAYLIGHT
TZOFFSETFROM:-0500
TZOFFSETTO:-0400
TZNAME:EDT
DTSTART:20230312T070000
END:DAYLIGHT
BEGIN:STANDARD
TZOFFSETFROM:-0400
TZOFFSETTO:-0500
TZNAME:EST
DTSTART:20231105T060000
END:STANDARD
BEGIN:DAYLIGHT
TZOFFSETFROM:-0500
TZOFFSETTO:-0400
TZNAME:EDT
DTSTART:20240310T070000
END:DAYLIGHT
BEGIN:STANDARD
TZOFFSETFROM:-0400
TZOFFSETTO:-0500
TZNAME:EST
DTSTART:20241103T060000
END:STANDARD
BEGIN:DAYLIGHT
TZOFFSETFROM:-0500
TZOFFSETTO:-0400
TZNAME:EDT
DTSTART:20250309T070000
END:DAYLIGHT
BEGIN:STANDARD
TZOFFSETFROM:-0400
TZOFFSETTO:-0500
TZNAME:EST
DTSTART:20251102T060000
END:STANDARD
END:VTIMEZONE
BEGIN:VTIMEZONE
TZID:America/Chicago
BEGIN:DAYLIGHT
TZOFFSETFROM:-0600
TZOFFSETTO:-0500
TZNAME:CDT
DTSTART:20230312T080000
END:DAYLIGHT
BEGIN:STANDARD
TZOFFSETFROM:-0500
TZOFFSETTO:-0600
TZNAME:CST
DTSTART:20231105T070000
END:STANDARD
BEGIN:DAYLIGHT
TZOFFSETFROM:-0600
TZOFFSETTO:-0500
TZNAME:CDT
DTSTART:20240310T080000
END:DAYLIGHT
BEGIN:STANDARD
TZOFFSETFROM:-0500
TZOFFSETTO:-0600
TZNAME:CST
DTSTART:20241103T070000
END:STANDARD
BEGIN:DAYLIGHT
TZOFFSETFROM:-0600
TZOFFSETTO:-0500
TZNAME:CDT
DTSTART:20250309T080000
END:DAYLIGHT
BEGIN:STANDARD
TZOFFSETFROM:-0500
TZOFFSETTO:-0600
TZNAME:CST
DTSTART:20251102T070000
END:STANDARD
END:VTIMEZONE
BEGIN:VEVENT
DTSTART;TZID=America/New_York:20241101T150000
DTEND;TZID=America/New_York:20241103T120000
DTSTAMP:20260423T145201
CREATED:20240913T023659Z
LAST-MODIFIED:20240913T023659Z
UID:1494-1730473200-1730635200@jennifersands.com
SUMMARY:Mt. Bethel\, PENNSYLVANIA (Tuscarora Conference Center)
DESCRIPTION:Jennifer will be the Speaker for the Women’s Fall Retreat at Tuscarora Inn & Conference Center.  The retreat dates are Friday through Sunday\, November 1-3\, 2024.  Jennifer will present 4 sessions; the topic will be “From Tears and Trials to Perfect Peace”. \nFor cost\, registration\, and more info\, visit Tuscarora’s website.
URL:https://jennifersands.com/event/mt-bethel-pennsylvania-tuscarora-conference-center/
LOCATION:Tuscarora Inn & Conference Center\, 3300 River Road\, Mt. Bethel\, PA\, 18343\, United States
ATTACH;FMTTYPE=image/jpeg:https://jennifersands.com/wp-content/uploads/2024/09/Screenshot-2024-09-12-221634.jpg
END:VEVENT
BEGIN:VEVENT
DTSTART;TZID=America/Chicago:20240929T103000
DTEND;TZID=America/Chicago:20240929T120000
DTSTAMP:20260423T145201
CREATED:20240913T021909Z
LAST-MODIFIED:20240913T021909Z
UID:1482-1727605800-1727611200@jennifersands.com
SUMMARY:Miami\, OKLAHOMA
DESCRIPTION:Jennifer will share her testimony at Miami First Assembly of God during their Sunday Morning Church Service at 10:30am
URL:https://jennifersands.com/event/miami-oklahoma/
LOCATION:Miami First Assembly\, 1815 East Steve Owens Blvd\, Miami\, OK\, 74354\, United States
ATTACH;FMTTYPE=image/jpeg:https://jennifersands.com/wp-content/uploads/2024/09/Screenshot-2024-09-12-221214.jpg
END:VEVENT
END:VCALENDAR